BEGIN:VCALENDAR
VERSION:2.0
PRODID:-//Pocono Center for the Arts - ECPv6.15.20//NONSGML v1.0//EN
CALSCALE:GREGORIAN
METHOD:PUBLISH
X-ORIGINAL-URL:https://poconocenterforthearts.org
X-WR-CALDESC:Events for Pocono Center for the Arts
REFRESH-INTERVAL;VALUE=DURATION:PT1H
X-Robots-Tag:noindex
X-PUBLISHED-TTL:PT1H
BEGIN:VTIMEZONE
TZID:UTC
BEGIN:STANDARD
TZOFFSETFROM:+0000
TZOFFSETTO:+0000
TZNAME:UTC
DTSTART:20240101T000000
END:STANDARD
END:VTIMEZONE
BEGIN:VTIMEZONE
TZID:America/New_York
BEGIN:DAYLIGHT
TZOFFSETFROM:-0500
TZOFFSETTO:-0400
TZNAME:EDT
DTSTART:20240310T070000
END:DAYLIGHT
BEGIN:STANDARD
TZOFFSETFROM:-0400
TZOFFSETTO:-0500
TZNAME:EST
DTSTART:20241103T060000
END:STANDARD
BEGIN:DAYLIGHT
TZOFFSETFROM:-0500
TZOFFSETTO:-0400
TZNAME:EDT
DTSTART:20250309T070000
END:DAYLIGHT
BEGIN:STANDARD
TZOFFSETFROM:-0400
TZOFFSETTO:-0500
TZNAME:EST
DTSTART:20251102T060000
END:STANDARD
BEGIN:DAYLIGHT
TZOFFSETFROM:-0500
TZOFFSETTO:-0400
TZNAME:EDT
DTSTART:20260308T070000
END:DAYLIGHT
BEGIN:STANDARD
TZOFFSETFROM:-0400
TZOFFSETTO:-0500
TZNAME:EST
DTSTART:20261101T060000
END:STANDARD
END:VTIMEZONE
BEGIN:VEVENT
DTSTART;TZID=UTC:20260412T160000
DTEND;TZID=UTC:20260412T190000
DTSTAMP:20260420T050651
CREATED:20260315T161109Z
LAST-MODIFIED:20260402T205010Z
UID:10000126-1776009600-1776020400@poconocenterforthearts.org
SUMMARY:Broadway at the Stroudsmoor
DESCRIPTION:PURCHASE TICKETS \nGet ready for another unforgettable afternoon of music\, magic\, and Broadway brilliance as the Pocono Center for the Arts continues its Broadway at the Stroudsmoor series! \n\nPresented by Pocono Center for the Arts\nTerraview at Stroudsmoor\, Stroudsburg\, PA\nSunday\, April 12\, 2026\nShowtime: 4:00 PM\n\nProduced and hosted by our Producing Artistic Director Stephen DeAngelis\, this signature concert brings five electrifying Broadway performers to the elegant Stroudsmoor stage for a one-of-a-kind showcase of talent. Expect show-stopping solos\, heartwarming duets\, behind-the-scenes stories\, and thrilling moments from some of Broadway’s most iconic musicals. \nWhether you’re a seasoned theater lover or new to the magic of musical theatre\, this show promises something for everyone — and it’s all right here in the beautiful Pocono Mountains. \n \nApril 12\, 2026 Broadway at the Stroudsmoor \nPURCHASE TICKETS
URL:https://poconocenterforthearts.org/event/broadway-at-the-stroudsmoor/
LOCATION:The Stroudsmoor Inn\, 257 Stroudsmoor Rd\, Stroudsburg\, PA\, 18360\, United States
CATEGORIES:Event
ATTACH;FMTTYPE=image/jpeg:https://poconocenterforthearts.org/wp-content/uploads/2026/03/IMG_1323.jpg
END:VEVENT
BEGIN:VEVENT
DTSTART;TZID=UTC:20260329T160000
DTEND;TZID=UTC:20260329T180000
DTSTAMP:20260420T050651
CREATED:20260325T210342Z
LAST-MODIFIED:20260325T210342Z
UID:10000132-1774800000-1774807200@poconocenterforthearts.org
SUMMARY:PCFTA Presents: Ken Jennings Performs The Gospel of John
DESCRIPTION:The Pocono Center for the Arts proudly presents a deeply moving and unforgettable performance: Ken Jennings performing The Gospel of John — coming to three area churches during the final weekend of March 2026. \nExperience the Gospel brought to life through Ken Jennings’ compelling and masterful recitation\, delivering this sacred text with passion\, clarity\, and emotional depth. This unique performance invites audiences of all backgrounds to connect with the message in a powerful and personal way. \n🗓 Performance Schedule:\n📍 Stroudsburg Wesleyan Church (N 5th Street)Saturday\, March 28 | 7:30 PM \n📍 Stroudsburg United Methodist Church (Main Street)Sunday\, March 29 | 1:00 PM \n📍 St. Luke’s Church (818 Main Street)Sunday\, March 29 | 4:00 PM \n🎟 All performances are FREE and open to the public🙏 A donation offering will be accepted at each location \nThese events are known to draw large audiences\, so please arrive early to secure your seat. \nSpecial thanks to Michael Perry’s Hair Studio for sponsoring this meaningful series. \n\n 
URL:https://poconocenterforthearts.org/event/pcfta-presents-ken-jennings-performs-the-gospel-of-john/2026-03-29/2/
CATEGORIES:Event
ATTACH;FMTTYPE=image/jpeg:https://poconocenterforthearts.org/wp-content/uploads/2026/03/Ken-Jennings.jpeg
END:VEVENT
BEGIN:VEVENT
DTSTART;TZID=UTC:20260329T130000
DTEND;TZID=UTC:20260329T150000
DTSTAMP:20260420T050651
CREATED:20260325T210342Z
LAST-MODIFIED:20260325T210342Z
UID:10000131-1774789200-1774796400@poconocenterforthearts.org
SUMMARY:PCFTA Presents: Ken Jennings Performs The Gospel of John
DESCRIPTION:The Pocono Center for the Arts proudly presents a deeply moving and unforgettable performance: Ken Jennings performing The Gospel of John — coming to three area churches during the final weekend of March 2026. \nExperience the Gospel brought to life through Ken Jennings’ compelling and masterful recitation\, delivering this sacred text with passion\, clarity\, and emotional depth. This unique performance invites audiences of all backgrounds to connect with the message in a powerful and personal way. \n🗓 Performance Schedule:\n📍 Stroudsburg Wesleyan Church (N 5th Street)Saturday\, March 28 | 7:30 PM \n📍 Stroudsburg United Methodist Church (Main Street)Sunday\, March 29 | 1:00 PM \n📍 St. Luke’s Church (818 Main Street)Sunday\, March 29 | 4:00 PM \n🎟 All performances are FREE and open to the public🙏 A donation offering will be accepted at each location \nThese events are known to draw large audiences\, so please arrive early to secure your seat. \nSpecial thanks to Michael Perry’s Hair Studio for sponsoring this meaningful series. \n\n 
URL:https://poconocenterforthearts.org/event/pcfta-presents-ken-jennings-performs-the-gospel-of-john/2026-03-29/1/
CATEGORIES:Event
ATTACH;FMTTYPE=image/jpeg:https://poconocenterforthearts.org/wp-content/uploads/2026/03/Ken-Jennings.jpeg
END:VEVENT
BEGIN:VEVENT
DTSTART;TZID=UTC:20260328T193000
DTEND;TZID=UTC:20260328T213000
DTSTAMP:20260420T050651
CREATED:20260325T210342Z
LAST-MODIFIED:20260325T210342Z
UID:10000130-1774726200-1774733400@poconocenterforthearts.org
SUMMARY:PCFTA Presents: Ken Jennings Performs The Gospel of John
DESCRIPTION:The Pocono Center for the Arts proudly presents a deeply moving and unforgettable performance: Ken Jennings performing The Gospel of John — coming to three area churches during the final weekend of March 2026. \nExperience the Gospel brought to life through Ken Jennings’ compelling and masterful recitation\, delivering this sacred text with passion\, clarity\, and emotional depth. This unique performance invites audiences of all backgrounds to connect with the message in a powerful and personal way. \n🗓 Performance Schedule:\n📍 Stroudsburg Wesleyan Church (N 5th Street)Saturday\, March 28 | 7:30 PM \n📍 Stroudsburg United Methodist Church (Main Street)Sunday\, March 29 | 1:00 PM \n📍 St. Luke’s Church (818 Main Street)Sunday\, March 29 | 4:00 PM \n🎟 All performances are FREE and open to the public🙏 A donation offering will be accepted at each location \nThese events are known to draw large audiences\, so please arrive early to secure your seat. \nSpecial thanks to Michael Perry’s Hair Studio for sponsoring this meaningful series. \n\n 
URL:https://poconocenterforthearts.org/event/pcfta-presents-ken-jennings-performs-the-gospel-of-john/2026-03-28/
CATEGORIES:Event
ATTACH;FMTTYPE=image/jpeg:https://poconocenterforthearts.org/wp-content/uploads/2026/03/Ken-Jennings.jpeg
END:VEVENT
BEGIN:VEVENT
DTSTART;TZID=UTC:20260208T080000
DTEND;TZID=UTC:20260214T170000
DTSTAMP:20260420T050651
CREATED:20260126T182110Z
LAST-MODIFIED:20260126T182321Z
UID:10000125-1770537600-1771088400@poconocenterforthearts.org
SUMMARY:Hot Drinks Crawl: Sip for the Arts
DESCRIPTION:Warm up your winter and support the arts! ☕❄️\nJoin us for the Hot Drinks Crawl\, a self-paced tasting adventure through Downtown Stroudsburg from February 8–14\, 2026. For just $30\, you’ll explore local cafés\, sample delicious hot drinks\, and support the Pocono Center for the Arts — all at your own pace and on your own time! \nGET TICKETS!\nHow it Works:\n\n\nPurchase your Crawl Pass at PoconoCenterForTheArts.org \n\n\nShow your confirmation email at any participating café to get your Crawl Card \n\n\nVisit cafés during their business hours from Feb 8–14 \n\n\nSample hot drinks (coffee\, cocoa\, cappuccinos & more!) \n\n\nRate your favorites using the QR code on your card \n\n\nTurn in your completed Crawl Card to enter the raffle giveaway \n\n\n🎁 Winners announced February 15th at a special after-party in Downtown Stroudsburg! \nParticipating Cafés:• The Cure Café• Chris’s Restaurant (Polska Restauracja)• Brewed Caffè• Stroudsmoor Bakery & Café• Just Like Magic Bakery• Cozy Kitty Café• RAW Organic Coffee Bar• Square Fare Cafe & Catering
URL:https://poconocenterforthearts.org/event/hot-drinks-crawl-sip-for-the-arts/
CATEGORIES:Event
ATTACH;FMTTYPE=image/jpeg:https://poconocenterforthearts.org/wp-content/uploads/2026/01/618959088_1311026834390703_7486954530458222487_n.jpg
END:VEVENT
BEGIN:VEVENT
DTSTART;TZID=America/New_York:20251123T160000
DTEND;TZID=America/New_York:20251123T190000
DTSTAMP:20260420T050651
CREATED:20250730T235432Z
LAST-MODIFIED:20251023T195103Z
UID:10000095-1763913600-1763924400@poconocenterforthearts.org
SUMMARY:Show of Shows at the Stroudsmoor
DESCRIPTION:Show of Shows at the Stroudsmoor\n221 Stroudsmoor Rd\, Stroudsburg\, PA\nSunday\, November 23\, 2025 4:00 PM\nPresented by the Pocono Center for the Arts\nProduced and hosted by Stephen DeAngelis \nPrepare for an unforgettable night of entertainment at Show of Shows at the Stroudsmoor! This dazzling variety performance brings together top-tier talent on one stage for a magical celebration of music\, comedy\, drama\, and more. \n✨ With performers to be announced soon\, this one-of-a-kind evening will feature a lineup of extraordinary artists sure to wow audiences of all ages. Whether you’re a lifelong arts lover or just looking for a night out with family and friends\, this show promises surprises\, showstoppers\, and standing ovations. \nTicket Info:\nGeneral Admission: $50\nStudents & Seniors: $40\nVIP Experience: $75 (includes champagne reception with the stars after the show!)\nVIP guests will enjoy exclusive access to a post-show celebration with the performers — the perfect chance to mingle and toast to the arts. \nClick to Purchase Tickets
URL:https://poconocenterforthearts.org/event/show-of-shows-stroudsmoor-2025/
LOCATION:The Stroudsmoor Inn\, 257 Stroudsmoor Rd\, Stroudsburg\, PA\, 18360\, United States
CATEGORIES:Event
ATTACH;FMTTYPE=image/png:https://poconocenterforthearts.org/wp-content/uploads/2025/10/Show-of-shows-9.png
END:VEVENT
BEGIN:VEVENT
DTSTART;TZID=UTC:20250913T140000
DTEND;TZID=UTC:20250913T160000
DTSTAMP:20260420T050651
CREATED:20250902T200052Z
LAST-MODIFIED:20250902T200535Z
UID:10000101-1757772000-1757779200@poconocenterforthearts.org
SUMMARY:Cool Cats of Delaware Water Gap – Finale Celebration!
DESCRIPTION:Join us on Saturday\, September 13\, 2025 from 2–4 PM at Sycamore Grill for the grand finale of our summer-long Cool Cats celebration! Enjoy a buffet lunch\, live entertainment\, games\, raffles\, and the final Cool Cats statue auction.   Cast your vote for Best in Show\, meet special guests\, view a pop-up gallery exhibition\, and celebrate the arts with fellow cat lovers and community supporters. \nGet your Tickets Here \n🐱 What to Expect: \n\n\n🎭 Live performance by The Shawnee Playhouse \n\n\n🗳 Vote for Best in Show Cool Cat statue \n\n\n🎨 Pop-up Gallery Exhibition \n\n\n🎤 Remarks by PA State Rep Tarah Probst \n\n\n🎉 Fun games of chance & raffle prizes \n\n\n🐾 Final round of the Cool Cats Sculpture Auction (online bidding open now at 32auctions.com) \n\n\n🏆 Winner announcement of the Cool Cats Scavenger Hunt! \n\n\n🎉 This is going to be a paw-some afternoon of: \nFood. Art. Raffles. Prizes. Fun. Community. And Cats! \nLimited seating — don’t miss your chance to celebrate with us! \nHosted by Pocono Center for the ArtsA 501(c)(3) nonprofit organization proudly supporting the arts in the Poconos
URL:https://poconocenterforthearts.org/event/cool-cats-of-delaware-water-gap-finale-celebration/
LOCATION:Sycamore Grill\, 92 Main Street\, Delaware Water Gap\, PA\, United States
CATEGORIES:Event
ATTACH;FMTTYPE=image/png:https://poconocenterforthearts.org/wp-content/uploads/2025/09/Show-of-shows-7.png
END:VEVENT
BEGIN:VEVENT
DTSTART;VALUE=DATE:20250802
DTEND;VALUE=DATE:20250804
DTSTAMP:20260420T050651
CREATED:20250731T225845Z
LAST-MODIFIED:20250731T233431Z
UID:10000096-1754092800-1754265599@poconocenterforthearts.org
SUMMARY:Ayanna’s Greenhouse Gallery
DESCRIPTION:Ayanna’s Greenhouse Gallery is a two-day pop-up art installation celebrating nature\, creativity\, and community! Join us at Anne Street Park\, August 2–3\, for a healing visual experience featuring greenery-inspired art\, vintage finds\, and unique treasures from local vendors. \nAyanna’s Greenhouse Gallery\nPresented by Pocono Center for the Arts – where art and nature come together!
URL:https://poconocenterforthearts.org/event/ayannas-greenhouse-gallery/
LOCATION:Anne Street Park\, Ann Street\, Stroudsburg\, PA\, 18360\, United States
CATEGORIES:Event
ATTACH;FMTTYPE=image/png:https://poconocenterforthearts.org/wp-content/uploads/2025/07/Show-of-shows-6.png
END:VEVENT
BEGIN:VEVENT
DTSTART;VALUE=DATE:20250701
DTEND;VALUE=DATE:20250914
DTSTAMP:20260420T050651
CREATED:20250626T060657Z
LAST-MODIFIED:20250819T213916Z
UID:10000085-1751328000-1757807999@poconocenterforthearts.org
SUMMARY:Cool Cats of Delaware Water Gap\, PA
DESCRIPTION:Have you heard?  Over 15 creatively constructed Cool Cats have invaded Delaware Water Gap and are vacationing in virtually all downtown businesses!  The cats\, and their area artist creators love Delaware Water Gap\, and invite the local community and visitors to walk the town to locate as many as they can!  Pocono Center For The Arts  is presenting this fundraiser – a unique and fun art experience. \nSince July 1st through August 30th 2025\, the public is encouraged to locate at least 12 cat sculptures and can submit the location and title of each cat\, to be entered to win awesome and valuable prizes\, donated by great local businesses and individuals. \n \nFolks can submit what they think are the correct answers\, and if determined so\, will be entered into a raffle\, with random names being chosen to win one of an awesome selection of prizes! This raffle will take place on September 13th\, 2025 at Sycamore Grill in Delaware Water Gap. \nSubmit answers to info@poconocenterforthearts.org with Cool Cats of DWG in the subject line\, to have a chance to be entered. Prizes are coming from Camelback Water Park\, Studio M Glass\, PCFTA\, Artist – Heidi Hooper\, Bo Tangle\, Klues Escape Room\, Fawn Beauty and MORE! \nWe are hosting an online bid auction for the cat sculptures beginning in later August 2025. Artists will receive 70% of the proceeds and PCFTA will receive the remainder. This fundraising event benefits the cat rescues\, artists\, participating businesses and the Pocono Center For The Arts – the area’s central              performing and visual arts non-profit arts organization.   \nThe downtown event will continue into September\, as we herd the cats to Sycamore Grill and continue the fundraising auction with the cat sculptures on displayed along with other\, fun games of chance\, contest prizes and more! \nWe know our PCFTA supporters\, circles of friends\, and cat and animal enthusiasts will support\, attend\, & bid on these beautiful artful cats and get tickets for other great items donated by local businesses in this fundraising event! LIVE AUCTION SITE \n  \n\n\n\n\n\n\n\nPocono Center For The Arts a 501(c)3 non-profit arts organization info@poconocenterforthearts.org                    \npoconocenterforthearts.org     612 Main Street Stroudsburg\, PA 18360   \nFollow us on Facebook & Instagram!\n\n\n\n\n\n\n\nBe sure to include in your summer plans to check out the  Cool Cats of Delaware Water Gap!
URL:https://poconocenterforthearts.org/event/cool-cats-of-delaware-water-gap-pa/
LOCATION:Pocono center for the art
CATEGORIES:Event
ATTACH;FMTTYPE=image/jpeg:https://poconocenterforthearts.org/wp-content/uploads/2025/06/unnamed.jpg
END:VEVENT
BEGIN:VEVENT
DTSTART;VALUE=DATE:20250701
DTEND;VALUE=DATE:20250702
DTSTAMP:20260420T050651
CREATED:20250626T060915Z
LAST-MODIFIED:20250626T060915Z
UID:10000086-1751328000-1751414399@poconocenterforthearts.org
SUMMARY:Fine Art Photography Exhibition
DESCRIPTION:Area Photographer Jonathan Broady curates this Photography Exhibition with work by area photographer\, Marcus Natt showcasing his exciting and contemplative collection of works of fine art photography. \nBeginning July 1st 2025\, with an\nArtists’ Reception held on Friday\, July 11th 2025 from 5 – 7 pm \nLight Refreshments\, Chat with the Artist – See you there!
URL:https://poconocenterforthearts.org/event/fine-art-photography-exhibition/
LOCATION:The Shawnee Inn
CATEGORIES:Event
ATTACH;FMTTYPE=image/jpeg:https://poconocenterforthearts.org/wp-content/uploads/2025/06/unnamed-1-1.jpg
END:VEVENT
BEGIN:VEVENT
DTSTART;TZID=UTC:20250628T100000
DTEND;TZID=UTC:20250628T160000
DTSTAMP:20260420T050651
CREATED:20250626T063443Z
LAST-MODIFIED:20250626T063443Z
UID:10000094-1751104800-1751126400@poconocenterforthearts.org
SUMMARY:Founder's Day Arts & Craft Show
DESCRIPTION:Friends of Delaware Water Gap\nFounder’s Day Arts & Craft Show \nHandmade crafts\, Soaps\, Jewelry and more \nHistoric Castle Inn\nWaring Drive \nRain or Shine\nSaturday June 28\, 2025\n10:00am – 4:00pm
URL:https://poconocenterforthearts.org/event/founders-day-arts-craft-show/
LOCATION:Pocono center for the art
CATEGORIES:Event
ATTACH;FMTTYPE=image/jpeg:https://poconocenterforthearts.org/wp-content/uploads/2025/06/unnamed-10.jpg
END:VEVENT
END:VCALENDAR