BEGIN:VCALENDAR
VERSION:2.0
PRODID:-//Pocono Center for the Arts - ECPv6.15.20//NONSGML v1.0//EN
CALSCALE:GREGORIAN
METHOD:PUBLISH
X-WR-CALNAME:Pocono Center for the Arts
X-ORIGINAL-URL:https://poconocenterforthearts.org
X-WR-CALDESC:Events for Pocono Center for the Arts
REFRESH-INTERVAL;VALUE=DURATION:PT1H
X-Robots-Tag:noindex
X-PUBLISHED-TTL:PT1H
BEGIN:VTIMEZONE
TZID:UTC
BEGIN:STANDARD
TZOFFSETFROM:+0000
TZOFFSETTO:+0000
TZNAME:UTC
DTSTART:20240101T000000
END:STANDARD
END:VTIMEZONE
BEGIN:VTIMEZONE
TZID:America/New_York
BEGIN:DAYLIGHT
TZOFFSETFROM:-0500
TZOFFSETTO:-0400
TZNAME:EDT
DTSTART:20240310T070000
END:DAYLIGHT
BEGIN:STANDARD
TZOFFSETFROM:-0400
TZOFFSETTO:-0500
TZNAME:EST
DTSTART:20241103T060000
END:STANDARD
BEGIN:DAYLIGHT
TZOFFSETFROM:-0500
TZOFFSETTO:-0400
TZNAME:EDT
DTSTART:20250309T070000
END:DAYLIGHT
BEGIN:STANDARD
TZOFFSETFROM:-0400
TZOFFSETTO:-0500
TZNAME:EST
DTSTART:20251102T060000
END:STANDARD
BEGIN:DAYLIGHT
TZOFFSETFROM:-0500
TZOFFSETTO:-0400
TZNAME:EDT
DTSTART:20260308T070000
END:DAYLIGHT
BEGIN:STANDARD
TZOFFSETFROM:-0400
TZOFFSETTO:-0500
TZNAME:EST
DTSTART:20261101T060000
END:STANDARD
END:VTIMEZONE
BEGIN:VEVENT
DTSTART;VALUE=DATE:20250906
DTEND;VALUE=DATE:20250907
DTSTAMP:20260420T073312
CREATED:20250626T061507Z
LAST-MODIFIED:20250626T061507Z
UID:10000088-1757116800-1757203199@poconocenterforthearts.org
SUMMARY:Fall Splendor
DESCRIPTION:You are invited to this fine arts exhibition and sale by talented local artists showcasing their creative interpretations for the fall season! \nAt Eastern Monroe Public Library\n1002 RT611 Stroudsburg PA 18360 \nArtist Reception – September 27th 2025 \nEnjoy refreshments while mingling with local artists!\nEnter the art raffle for a chance to win prizes! \nThe artwork will be on display until Saturday October 11th 2025
URL:https://poconocenterforthearts.org/event/fall-splendor/
LOCATION:Eastern Monroe Public Library
CATEGORIES:Exhibition
ATTACH;FMTTYPE=image/jpeg:https://poconocenterforthearts.org/wp-content/uploads/2025/06/unnamed-3.jpg
END:VEVENT
BEGIN:VEVENT
DTSTART;TZID=UTC:20250830T090000
DTEND;TZID=UTC:20250830T160000
DTSTAMP:20260420T073312
CREATED:20250626T063141Z
LAST-MODIFIED:20250626T063249Z
UID:10000093-1756544400-1756569600@poconocenterforthearts.org
SUMMARY:Artisans on Ann
DESCRIPTION:This year’s show hosts 70 plus artists with creations that include pottery\, woodworking\, framed and unframed oil\, watercolor and pencil drawings\, quilted\, felted and mix media textile creations\, as well as\, photography\, jewelry\, local honey\, food\, local winery\, local brewery and more. \n570-424-1174\nCall for more details\nfacebook@Artisans on Ann 2025 \nAugust 30\, 2025\n9am – 4pm \nThe Potting Shed\nFree Parking\nAmerican Ribbon\n931 Ann Street\, Stroudsburg PA
URL:https://poconocenterforthearts.org/event/artisans-on-ann/
LOCATION:931 Ann Street Stroudsburg Pa
CATEGORIES:Exhibition
ATTACH;FMTTYPE=image/jpeg:https://poconocenterforthearts.org/wp-content/uploads/2025/06/unnamed-9.jpg
END:VEVENT
BEGIN:VEVENT
DTSTART;VALUE=DATE:20250824
DTEND;VALUE=DATE:20250825
DTSTAMP:20260420T073312
CREATED:20250626T062652Z
LAST-MODIFIED:20250626T062652Z
UID:10000091-1755993600-1756079999@poconocenterforthearts.org
SUMMARY:Plein Air Workshops
DESCRIPTION:SKYTOP LODGE\nPLEIN AIR WORKSHOPS \nJune 22nd\, 2025 | August 24th\, 2025\nSeptember 28th\, 2025 | October 19th\, 2025 \n$125/PERSON \nLove our plein air days?\nJoin one of our new plein air workshops!\nLearn new techniques\, skills and different ways to make a masterpiece.
URL:https://poconocenterforthearts.org/event/plein-air-workshops/
LOCATION:Pocono center for the art
CATEGORIES:Exhibition
ATTACH;FMTTYPE=image/jpeg:https://poconocenterforthearts.org/wp-content/uploads/2025/06/unnamed-6.jpg
END:VEVENT
BEGIN:VEVENT
DTSTART;TZID=America/New_York:20250802T180000
DTEND;TZID=America/New_York:20250802T200000
DTSTAMP:20260420T073312
CREATED:20250731T233831Z
LAST-MODIFIED:20250731T233950Z
UID:10000097-1754157600-1754164800@poconocenterforthearts.org
SUMMARY:Dog Days of Summer
DESCRIPTION:Dog Days of Summer is a vibrant artist exhibition and sale celebrating the final stretch of summer through the eyes of local creatives! Join us for the gallery opening on August 2nd from 6–8 PM at The Renegade Winery in Stroudsburg. Enjoy live music by Alec Quire\, meet the artists\, sip wine\, browse original works\, and enter our art raffle for a chance to win prizes! \nPresented as part of Stroudsburg’s First Saturday Artwalks and hosted by the Pocono Center for the Arts.
URL:https://poconocenterforthearts.org/event/dog-days-of-summer/
LOCATION:The Renegade Winery\, 600 Main Street\, Stroudsburg\, PA\, 18360\, United States
CATEGORIES:Exhibition
ATTACH;FMTTYPE=image/jpeg:https://poconocenterforthearts.org/wp-content/uploads/2025/07/IMG_3115.jpg
END:VEVENT
BEGIN:VEVENT
DTSTART;TZID=UTC:20250727T130000
DTEND;TZID=UTC:20250727T210000
DTSTAMP:20260420T073312
CREATED:20250626T062421Z
LAST-MODIFIED:20250626T062421Z
UID:10000090-1753621200-1753650000@poconocenterforthearts.org
SUMMARY:14th Mady's Snow Day
DESCRIPTION:14th MADY’S SNOW DAY \nJULY 27th\n1:00 – 9:00 pm\n18 & up $20\nunder 18 free \nEagles Rest Cellars\n107 Eagles Rest Ln.\nStroudsburg\, Pa\n(570) 242-3224 \nMUSIC – FOOD TRUCKS – BEER – WINE \nNo outside alcohol / Chairs recommended \nLineup:\n1:00 – DJ Mitch & DJ Jerel\nMC Chad Costa\n2:00 – 2:45 Sol Katana\n3:00 – 3:45 Roots In Blue Stone\n4:00 – 4:45 Big Bone Daddy\n5:00 – 5:45 Flyin’ Blind\n6:00 – 6:45 Solution A.D.\n7:00 – 7:15 Mady Songs\n7:30 – 8:30 The Maybabies
URL:https://poconocenterforthearts.org/event/14th-madys-snow-day/
LOCATION:Pocono center for the art
CATEGORIES:Exhibition
ATTACH;FMTTYPE=image/jpeg:https://poconocenterforthearts.org/wp-content/uploads/2025/06/unnamed-5.jpg
END:VEVENT
BEGIN:VEVENT
DTSTART;VALUE=DATE:20250714
DTEND;VALUE=DATE:20250715
DTSTAMP:20260420T073312
CREATED:20250626T061135Z
LAST-MODIFIED:20250626T061219Z
UID:10000087-1752451200-1752537599@poconocenterforthearts.org
SUMMARY:Summer in the Poconos!
DESCRIPTION:Summer Celebration – Artist Exhibition\nJuly 14th 2025 \nYou are invited to this fine arts exhibition and sale by talented local artists\, showcasing their creative interpretations for the Summer season.\nAt Eastern Monroe Public Library\n1002 RT-611\, Stroudsburg PA 18360 \nArtist Reception – August 2nd at 2–4pm \nEnjoy refreshments while mingling with local artists!\nEnter the Art Raffle for chances to win prizes! \nThe artwork will be on display until Saturday\, September 6th 2025
URL:https://poconocenterforthearts.org/event/summer-in-the-poconos/
LOCATION:Eastern Monroe Public Library
CATEGORIES:Exhibition
ATTACH;FMTTYPE=image/jpeg:https://poconocenterforthearts.org/wp-content/uploads/2025/06/unnamed-2-1.jpg
END:VEVENT
BEGIN:VEVENT
DTSTART;VALUE=DATE:20250713
DTEND;VALUE=DATE:20250714
DTSTAMP:20260420T073312
CREATED:20250626T062919Z
LAST-MODIFIED:20250626T062919Z
UID:10000092-1752364800-1752451199@poconocenterforthearts.org
SUMMARY:Plein Air Days 2025
DESCRIPTION:All participants are encouraged to submit their paintings to a month-long “Plein Air Exhibit” November 2025 at our Lakeview Gallery.\nGift cards to Skytop Lodge outlets and a complimentary overnight stay will be awarded for 1st\, 2nd\, and 3rd place. \nDrop off dates: October 24th / October 25th for exhibit.\nFor more information and to register for this free event\,\nplease contact pleinair@skytop.com \nJune 22\, 23 & 24\nJuly 13\, 14 & 15\nAugust 24\, 25 & 26\nSeptember 28\, 29 & 30\nOctober 19\, 20 & 21 \nImmerse yourself in the environment\, responding to its sights\, sounds and atmosphere in real-time right at Skytop Lodge. Whether you’re a beginner or expert artist\, our Plein Air Days are relaxing and judgement-free!
URL:https://poconocenterforthearts.org/event/plein-air-days-2025/
LOCATION:Pocono center for the art
CATEGORIES:Exhibition
ATTACH;FMTTYPE=image/jpeg:https://poconocenterforthearts.org/wp-content/uploads/2025/06/unnamed-7.jpg
END:VEVENT
BEGIN:VEVENT
DTSTART;VALUE=DATE:20250712
DTEND;VALUE=DATE:20250713
DTSTAMP:20260420T073312
CREATED:20250626T062144Z
LAST-MODIFIED:20250626T062144Z
UID:10000089-1752278400-1752364799@poconocenterforthearts.org
SUMMARY:An Awsom Art Show
DESCRIPTION:ALL ABOUT ANIMALS at the GALLERY AT 530 MAIN \nCelebrating the A.W.S.O.M. Animal Shelter &\nThe Pocono Wildlife Rehabilitation & Education Center \nFEATURING 100+ AREA ARTISTS \nOPENING RECEPTION:\nSATURDAY\, JULY 12TH – 5 TO 8 PM \nGallery Hours: Fridays–Saturdays–Sundays (12–4 PM)
URL:https://poconocenterforthearts.org/event/an-awsom-art-show/
LOCATION:Pocono center for the art
CATEGORIES:Exhibition
ATTACH;FMTTYPE=image/jpeg:https://poconocenterforthearts.org/wp-content/uploads/2025/06/unnamed-4.jpg
END:VEVENT
END:VCALENDAR