BEGIN:VCALENDAR
VERSION:2.0
PRODID:-//Pocono Center for the Arts - ECPv6.15.20//NONSGML v1.0//EN
CALSCALE:GREGORIAN
METHOD:PUBLISH
X-ORIGINAL-URL:https://poconocenterforthearts.org
X-WR-CALDESC:Events for Pocono Center for the Arts
REFRESH-INTERVAL;VALUE=DURATION:PT1H
X-Robots-Tag:noindex
X-PUBLISHED-TTL:PT1H
BEGIN:VTIMEZONE
TZID:UTC
BEGIN:STANDARD
TZOFFSETFROM:+0000
TZOFFSETTO:+0000
TZNAME:UTC
DTSTART:20240101T000000
END:STANDARD
END:VTIMEZONE
BEGIN:VTIMEZONE
TZID:America/New_York
BEGIN:DAYLIGHT
TZOFFSETFROM:-0500
TZOFFSETTO:-0400
TZNAME:EDT
DTSTART:20240310T070000
END:DAYLIGHT
BEGIN:STANDARD
TZOFFSETFROM:-0400
TZOFFSETTO:-0500
TZNAME:EST
DTSTART:20241103T060000
END:STANDARD
BEGIN:DAYLIGHT
TZOFFSETFROM:-0500
TZOFFSETTO:-0400
TZNAME:EDT
DTSTART:20250309T070000
END:DAYLIGHT
BEGIN:STANDARD
TZOFFSETFROM:-0400
TZOFFSETTO:-0500
TZNAME:EST
DTSTART:20251102T060000
END:STANDARD
BEGIN:DAYLIGHT
TZOFFSETFROM:-0500
TZOFFSETTO:-0400
TZNAME:EDT
DTSTART:20260308T070000
END:DAYLIGHT
BEGIN:STANDARD
TZOFFSETFROM:-0400
TZOFFSETTO:-0500
TZNAME:EST
DTSTART:20261101T060000
END:STANDARD
END:VTIMEZONE
BEGIN:VEVENT
DTSTART;TZID=UTC:20251212T160000
DTEND;TZID=UTC:20251212T180000
DTSTAMP:20260419T193609
CREATED:20251103T163952Z
LAST-MODIFIED:20251103T171420Z
UID:10000118-1765555200-1765562400@poconocenterforthearts.org
SUMMARY:Key Hook Woodburning Workshop
DESCRIPTION:December 12th – 4pm – 6pm – Key Hook Woodburning Workshop – Ages 6+ \nSkill level: beginners.  Location: Earth Art Studios \nLearn to wood burn your new favorite place to hang your items and keys. \nInstructor – Dustin. \nCost: $15 + materials $18 \nPurchase Workshop \nNOTE: Fees for Classes and Workshops offered through Pocono Center For The Arts are NON-REFUNDABLE.. However\, in the event a class or workshop is cancelled by Earth Art Studios or PCFTA\, enrolled students would be entitled to receive a credit or refund for that class or workshop. All classes and workshops must be paid in full before they start. Students cannot pay for a portion of a class or workshop\, or for a single session\, or cannot pay for the remainder of a class even if they join in after the class has passed its first session. Classes and workshop offerings are subject to change without notice. Please contact PCFTA at www.poconocenterforthearts.org for current and updated information.
URL:https://poconocenterforthearts.org/event/key-hook-woodburning-workshop/
LOCATION:Earth Art Studio\, 246 Stadden Rd Ste 103\, Tannersville\, PA\, 18372\, United States
CATEGORIES:Workshop
END:VEVENT
BEGIN:VEVENT
DTSTART;TZID=UTC:20251205T160000
DTEND;TZID=UTC:20251205T180000
DTSTAMP:20260419T193609
CREATED:20251103T163751Z
LAST-MODIFIED:20251103T171457Z
UID:10000117-1764950400-1764957600@poconocenterforthearts.org
SUMMARY:Do You Wanna Build a Snowman Wood Workshop
DESCRIPTION:December 5th – 4pm – 6pm – Do You Wanna Build a Snowman Wood Workshop – Ages 6+ \nSkill level: beginners.  Location: Earth Art Studios \nPaint and build a wooden snowman with us this winter season. \nInstructor – Dustin. \nCost: $10 + materials $6 \nPurchase Workshop  \nNOTE: Fees for Classes and Workshops offered through Pocono Center For The Arts are NON-REFUNDABLE.. However\, in the event a class or workshop is cancelled by Earth Art Studios or PCFTA\, enrolled students would be entitled to receive a credit or refund for that class or workshop. All classes and workshops must be paid in full before they start. Students cannot pay for a portion of a class or workshop\, or for a single session\, or cannot pay for the remainder of a class even if they join in after the class has passed its first session. Classes and workshop offerings are subject to change without notice. Please contact PCFTA at www.poconocenterforthearts.org for current and updated information.
URL:https://poconocenterforthearts.org/event/do-you-wanna-build-a-snowman-wood-workshop/
LOCATION:Earth Art Studio\, 246 Stadden Rd Ste 103\, Tannersville\, PA\, 18372\, United States
CATEGORIES:Workshop
END:VEVENT
BEGIN:VEVENT
DTSTART;TZID=UTC:20251128T160000
DTEND;TZID=UTC:20251128T180000
DTSTAMP:20260419T193609
CREATED:20251103T163325Z
LAST-MODIFIED:20251103T171533Z
UID:10000116-1764345600-1764352800@poconocenterforthearts.org
SUMMARY:Burning Bells Woodburning Workshop
DESCRIPTION:November 28th – 4pm – 6pm – Burning Bells Woodburning Workshop – Ages 14+ \nSkill level: expert.  Location: Earth Art Studios \nWood burn designs on a hand-turned wooded bell ornament. \nInstructor – Dustin. \nCost: $30 materials included \nPurchase Workshop \nNOTE: Fees for Classes and Workshops offered through Pocono Center For The Arts are NON-REFUNDABLE.. However\, in the event a class or workshop is cancelled by Earth Art Studios or PCFTA\, enrolled students would be entitled to receive a credit or refund for that class or workshop. All classes and workshops must be paid in full before they start. Students cannot pay for a portion of a class or workshop\, or for a single session\, or cannot pay for the remainder of a class even if they join in after the class has passed its first session. Classes and workshop offerings are subject to change without notice. Please contact PCFTA at www.poconocenterforthearts.org for current and updated information.
URL:https://poconocenterforthearts.org/event/burning-bells-woodburning-workshop/
LOCATION:Earth Art Studio\, 246 Stadden Rd Ste 103\, Tannersville\, PA\, 18372\, United States
CATEGORIES:Workshop
END:VEVENT
BEGIN:VEVENT
DTSTART;TZID=UTC:20251114T160000
DTEND;TZID=UTC:20251114T180000
DTSTAMP:20260419T193609
CREATED:20251103T161102Z
LAST-MODIFIED:20251103T193336Z
UID:10000114-1763136000-1763143200@poconocenterforthearts.org
SUMMARY:Bottle Opener Coasters Workshop
DESCRIPTION:November 14th – 4pm – 6pm – Bottle Opener Coasters Workshop – Ages 14+ \nSkill level: beginners. \nMake a timeless gift with our original handmade magnetic bottle opener coasters. \nInstructor – Dustin. Cost: $16+ materials $18 \nPurchase Workshop \nNOTE: Fees for Classes and Workshops offered through Pocono Center For The Arts are NON-REFUNDABLE.. However\, in the event a class or workshop is cancelled by Earth Art Studios or PCFTA\, enrolled students would be entitled to receive a credit or refund for that class or workshop. All classes and workshops must be paid in full before they start. Students cannot pay for a portion of a class or workshop\, or for a single session\, or cannot pay for the remainder of a class even if they join in after the class has passed its first session. Classes and workshop offerings are subject to change without notice. Please contact PCFTA at www.poconocenterforthearts.org for current and updated information.
URL:https://poconocenterforthearts.org/event/bottle-opener-coasters-workshop/
LOCATION:Earth Art Studio\, 246 Stadden Rd Ste 103\, Tannersville\, PA\, 18372\, United States
CATEGORIES:Workshop
END:VEVENT
BEGIN:VEVENT
DTSTART;TZID=UTC:20251108T160000
DTEND;TZID=UTC:20251108T180000
DTSTAMP:20260419T193609
CREATED:20251103T160339Z
LAST-MODIFIED:20251103T171722Z
UID:10000113-1762617600-1762624800@poconocenterforthearts.org
SUMMARY:Northern Lights Paint & Sip
DESCRIPTION:Northern Lights Paint & Sip Workshop – Ages 6+ \nSkill level: intermediate. \nGet starry-eyed with us as we paint a lovely northern lights scene and have fun\, snack and beverage included. Instructor – Dustin. \nCost: $25 + materials $10 \nPurchase workshop \nNOTE: Fees for Classes and Workshops offered through Pocono Center For The Arts are NON-REFUNDABLE.. However\, in the event a class or workshop is cancelled by Earth Art Studios or PCFTA\, enrolled students would be entitled to receive a credit or refund for that class or workshop. All classes and workshops must be paid in full before they start. Students cannot pay for a portion of a class or workshop\, or for a single session\, or cannot pay for the remainder of a class even if they join in after the class has passed its first session. Classes and workshop offerings are subject to change without notice. Please contact PCFTA at www.poconocenterforthearts.org for current and updated information.
URL:https://poconocenterforthearts.org/event/northern-lights-paint-sip/
LOCATION:Earth Art Studio\, 246 Stadden Rd Ste 103\, Tannersville\, PA\, 18372\, United States
CATEGORIES:Workshop
END:VEVENT
BEGIN:VEVENT
DTSTART;TZID=UTC:20251031T160000
DTEND;TZID=UTC:20251031T180000
DTSTAMP:20260419T193609
CREATED:20250910T202213Z
LAST-MODIFIED:20250910T202213Z
UID:10000108-1761926400-1761933600@poconocenterforthearts.org
SUMMARY:Ghost Colors in Watercolor workshop
DESCRIPTION:October 31st 4pm-6pm – Ghost Colors in Watercolor workshop – Ages 6+ \nSkill level: beginners. \nLearn to use watercolor for making a ghostly creation with us. \nInstructor – Dustin. \nCost: $16 + materials $2 \nGet Tickets HERE
URL:https://poconocenterforthearts.org/event/ghost-colors-in-watercolor-workshop/
LOCATION:Earth Art Studio\, 246 Stadden Rd Ste 103\, Tannersville\, PA\, 18372\, United States
CATEGORIES:Workshop
END:VEVENT
BEGIN:VEVENT
DTSTART;TZID=UTC:20251024T160000
DTEND;TZID=UTC:20251024T180000
DTSTAMP:20260419T193609
CREATED:20250910T201958Z
LAST-MODIFIED:20250910T201958Z
UID:10000107-1761321600-1761328800@poconocenterforthearts.org
SUMMARY:Pumpkin Patch Wood workshop
DESCRIPTION:October 24th – 4pm-6pm – Pumpkin Patch Wood workshop – Ages 6+ \nSkill level: beginners. \nPick a wooden pumpkin from our patch and paint your new favorite fall decor. \nSnack and beverage included. \nInstructor – Dustin. \nCost: $10 + materials $6 \nGet Tickets HERE
URL:https://poconocenterforthearts.org/event/pumpkin-patch-wood-workshop-2/
LOCATION:Earth Art Studio\, 246 Stadden Rd Ste 103\, Tannersville\, PA\, 18372\, United States
CATEGORIES:Workshop
END:VEVENT
BEGIN:VEVENT
DTSTART;TZID=UTC:20251017T160000
DTEND;TZID=UTC:20251017T180000
DTSTAMP:20260419T193609
CREATED:20250910T201724Z
LAST-MODIFIED:20250910T201724Z
UID:10000106-1760716800-1760724000@poconocenterforthearts.org
SUMMARY:Nuts About Wood Art
DESCRIPTION:October 17th – 4pm – 6pm – Nuts about Wood Art workshop – ages 16+ \nSkill level: Expert. \nDesign and wood burn a unique ornament from a hand turned wooden acorn. \nInstructor – Dustin.  Cost: $20 + materials $30 \nGet Ticket HERE
URL:https://poconocenterforthearts.org/event/nuts-about-wood-art/
LOCATION:Earth Art Studio\, 246 Stadden Rd Ste 103\, Tannersville\, PA\, 18372\, United States
CATEGORIES:Workshop
END:VEVENT
BEGIN:VEVENT
DTSTART;TZID=UTC:20250926T160000
DTEND;TZID=UTC:20250926T180000
DTSTAMP:20260419T193609
CREATED:20250910T200440Z
LAST-MODIFIED:20250910T200440Z
UID:10000104-1758902400-1758909600@poconocenterforthearts.org
SUMMARY:Wood Burn a Hand-carved Leaf Workshop
DESCRIPTION:September 26th – 4pm – 6pm – Wood Burn a Hand-carved Leaf workshop – ages 14+ \nSkill level: intermediate. \nUse wood burning tools to create a unique fall table setting. \nInstructor – Dustin. \nCost: $10 + material $40 \nGet Tickets for this Event
URL:https://poconocenterforthearts.org/event/wood-burn-a-hand-carved-leaf-workshop/
LOCATION:Earth Art Studio\, 246 Stadden Rd Ste 103\, Tannersville\, PA\, 18372\, United States
CATEGORIES:Workshop
END:VEVENT
BEGIN:VEVENT
DTSTART;TZID=UTC:20250919T160000
DTEND;TZID=UTC:20250919T180000
DTSTAMP:20260419T193609
CREATED:20250910T175824Z
LAST-MODIFIED:20250910T175824Z
UID:10000103-1758297600-1758304800@poconocenterforthearts.org
SUMMARY:Pumpkin Patch Wood - Workshop
DESCRIPTION:September 19th – 4pm –  6pm – Pumpkin Patch Wood Workshop – Ages 6+ \nSkill level: beginners. \nPick a wooden pumpkin from our patch and paint your new favorite fall decor. \nSnack and beverage included.  Instructor – Dustin. \nCost: $10 + materials $6 \nGet Tickets for this event
URL:https://poconocenterforthearts.org/event/pumpkin-patch-wood-workshop/
LOCATION:Earth Art Studio\, 246 Stadden Rd Ste 103\, Tannersville\, PA\, 18372\, United States
CATEGORIES:Workshop
END:VEVENT
BEGIN:VEVENT
DTSTART;TZID=UTC:20250912T160000
DTEND;TZID=UTC:20250912T180000
DTSTAMP:20260419T193609
CREATED:20250910T175404Z
LAST-MODIFIED:20250910T175442Z
UID:10000102-1757692800-1757700000@poconocenterforthearts.org
SUMMARY:Printmaking on Greeting Cards - Workshop
DESCRIPTION:September 12th 4pm – 6pm – Printmaking on Greeting Cards workshop – ages 16+ \nSkill level: intermediate. \nCarve your own print block and use it to make your own unique greeting cards. \nInstructor – Dustin.   Cost: $30 + materials $6 \nGet Your Ticket Here
URL:https://poconocenterforthearts.org/event/printmaking-on-greeting-cards-workshop/
LOCATION:Earth Art Studio\, 246 Stadden Rd Ste 103\, Tannersville\, PA\, 18372\, United States
CATEGORIES:Workshop
END:VEVENT
BEGIN:VEVENT
DTSTART;TZID=UTC:20250905T160000
DTEND;TZID=UTC:20250905T180000
DTSTAMP:20260419T193609
CREATED:20250819T230525Z
LAST-MODIFIED:20250819T230525Z
UID:10000100-1757088000-1757095200@poconocenterforthearts.org
SUMMARY:Needle Felting in the Fall Workshop
DESCRIPTION:September 5th – 4pm – 6pm at Earth Art Studio \n Needle Felting in the Fall Workshop – ages 14+ \nSkill level: beginners. \nLearn needle felting and create some fall decor with us. \nInstructor – Dustin. \nCost: $25 + materials $6 \nSign up Here
URL:https://poconocenterforthearts.org/event/needle-felting-in-the-fall-workshop/
LOCATION:Earth Art Studio\, 246 Stadden Rd Ste 103\, Tannersville\, PA\, 18372\, United States
CATEGORIES:Classes,Workshop
END:VEVENT
BEGIN:VEVENT
DTSTART;TZID=America/New_York:20250829T160000
DTEND;TZID=America/New_York:20250829T180000
DTSTAMP:20260419T193609
CREATED:20250819T225308Z
LAST-MODIFIED:20250819T230013Z
UID:10000099-1756483200-1756490400@poconocenterforthearts.org
SUMMARY:Dino Fossils and Clay Making Workshop
DESCRIPTION:August 29th – 4pm – 6pm at Earth Art Studio \nDino Fossils and Clay Making Workshop – Ages 6+ \nSkill level: beginners. Sift through the sand to uncover Dino bones to use and imprint into handmade clay you will be making during the event. \nEnjoy snack and beverage on us\, too! \nInstructor – Dustin. Cost: $28 \nSIgn up Here
URL:https://poconocenterforthearts.org/event/dino-fossils-and-clay-making-workshop/
LOCATION:Earth Art Studio\, 246 Stadden Rd Ste 103\, Tannersville\, PA\, 18372\, United States
CATEGORIES:Classes,Workshop
END:VEVENT
BEGIN:VEVENT
DTSTART;TZID=America/New_York:20250822T160000
DTEND;TZID=America/New_York:20250822T180000
DTSTAMP:20260419T193609
CREATED:20250819T224645Z
LAST-MODIFIED:20250819T225858Z
UID:10000098-1755878400-1755885600@poconocenterforthearts.org
SUMMARY:Birds of a Feather Clay Modeling Workshop
DESCRIPTION:August 22nd – 4pm – 6pm at Earth Art Studio \nBirds of a Feather Clay Modeling Workshop – Ages 6+ \nSkill level: beginners. Mold a bird from modeling clay and airbrush or paint it to add some beautiful color. \nInstructor – Dustin. Cost: $15 + materials $5 \nSign up Here
URL:https://poconocenterforthearts.org/event/birds-of-a-feather-clay-modeling-workshop/
LOCATION:Earth Art Studio\, 246 Stadden Rd Ste 103\, Tannersville\, PA\, 18372\, United States
CATEGORIES:Classes,Workshop
END:VEVENT
END:VCALENDAR